BEGIN:VCALENDAR
VERSION:2.0
PRODID:-//SAMU - ECPv6.15.20//NONSGML v1.0//EN
CALSCALE:GREGORIAN
METHOD:PUBLISH
X-WR-CALNAME:SAMU
X-ORIGINAL-URL:https://samu.ca
X-WR-CALDESC:Events for SAMU
REFRESH-INTERVAL;VALUE=DURATION:PT1H
X-Robots-Tag:noindex
X-PUBLISHED-TTL:PT1H
BEGIN:VTIMEZONE
TZID:America/Edmonton
BEGIN:DAYLIGHT
TZOFFSETFROM:-0700
TZOFFSETTO:-0600
TZNAME:MDT
DTSTART:20240310T090000
END:DAYLIGHT
BEGIN:STANDARD
TZOFFSETFROM:-0600
TZOFFSETTO:-0700
TZNAME:MST
DTSTART:20241103T080000
END:STANDARD
BEGIN:DAYLIGHT
TZOFFSETFROM:-0700
TZOFFSETTO:-0600
TZNAME:MDT
DTSTART:20250309T090000
END:DAYLIGHT
BEGIN:STANDARD
TZOFFSETFROM:-0600
TZOFFSETTO:-0700
TZNAME:MST
DTSTART:20251102T080000
END:STANDARD
BEGIN:DAYLIGHT
TZOFFSETFROM:-0700
TZOFFSETTO:-0600
TZNAME:MDT
DTSTART:20260308T090000
END:DAYLIGHT
BEGIN:STANDARD
TZOFFSETFROM:-0600
TZOFFSETTO:-0700
TZNAME:MST
DTSTART:20261101T080000
END:STANDARD
END:VTIMEZONE
BEGIN:VEVENT
DTSTART;TZID=America/Edmonton:20251023T090000
DTEND;TZID=America/Edmonton:20251023T110000
DTSTAMP:20260423T062345
CREATED:20250922T180602Z
LAST-MODIFIED:20250923T145848Z
UID:10000326-1761210000-1761217200@samu.ca
SUMMARY:Breakfast Club #5
DESCRIPTION:BREAKFAST CLUB\n\nNOW WEEKLY!\nBreakfast club is now available to you every week! Stop by the SAMU Student Lounge on Thursdays to build a free\, nutritious breakfast that meets your dietary needs*.\nSAMU’s Breakfast Club is a volunteer-run service that offers a free\, nutritious breakfast to you every Thursday. We strive to offer items that support dietary needs such as Halal\, vegetarian\, vegan\, and sensitivities such as gluten and dairy. Our staff and volunteers are here to support you and provide a breakfast that meets your needs*! \nBreakfast Club is located in the Student Lounge\, and runs from 9-11 AM or until supplies last!* We strive to accommodate as many dietary restrictions as possible. If you have any questions or concerns about dietary restrictions\, please contact our Food Support team at safoodsupport@macewan.ca \nOUR MENU\nYou may view our most recent menu below. We update this menu every Wednesday evening/Thursday morning before Breakfast Club. This menu is subject to change without notice.\n\n			\n			\n				\n				\n				\n				\n			\n				\n				\n				\n				\n				\n				\n				\n				\n				\n				\n				This weeks menu\n				 \n \n\n\n\n \n			\n			\n				\n				\n				\n				\n			\n				\n				\n				\n				\n				\n				\n				\n				\n				\n				\n				\n\n\n\n2025 FALL TERM DATES:\nAll Breakfast Club events run from 9-11 AM or until supplies lasts. \n\n\nSep 25\, 2025\nOct 2\, 2025\nOct 9\, 2025\nOct 16\, 2025\nOct 23\, 2025\nOct 30\, 2025\nNov 6\, 2025\nNov 20\, 2025\nNov 27\, 2025\nDec 4\, 2025 (Hot Breakfast)\n\n\n\n\n			\n				\n				\n				\n				\n				Questions?\nIf you have questions about Breakfast Club\, please read the FAQs below or contact our Food Support team at safoodsupport@macewan.c\n			\n				\n				\n				\n				\n				Breakfast Club Feedback & Suggestion Form\nShare your feedback or menu item suggestions with us through the Breakfast Club Feedback & Suggestions Form.\n			\n				\n				\n				\n				\n				Breakfast Club FAQs\n			\n				\n				\n				\n				\n				I HAVE A CLASS DURING BREAKFAST CLUB. CAN I STILL GET FOOD?\n				Breakfast Club runs from 9:00 – 11:00 AM or until supplies last. You may only receive free breakfast from Breakfast Club during this time.\n			\n				\n				\n				\n				\n				WHAT KIND OF FOOD IS OFFERED AT BREAKFAST CLUB?\n				You can view an up-to-date menu above. Generally\, you may choose from a variety of nutritious items to build your breakfast*:\n\nMuffins & other baked goods\nCereals\nMilk\, yogurt & other dairy\nGranola bars\nHot & cold beverages\n\n* All items are subject to availability. Menu is subject to change without notice. Breakfast is available while supplies last.\n			\n				\n				\n				\n				\n				DO YOU ACCOMODATE DIETARY RESTRICTIONS?\n				We try to accommodate as many dietary restrictions as we can. Currently\, we focus on offering the following: Halal\, vegetarian\, vegan\, lactose-free\, gluten-free and nut-free. If you have questions or concerns about dietary restrictions\, please contact our Food Support team at safoodsupport@macewan.ca\n\n			\n				\n				\n				\n				\n				CAN I SUGGEST BREAKFAST CLUB MENU ITEMS?\n				Yes\, you can provide feedback and item suggestions through the Breakfast Club Feedback and Suggestions Form.\n			\n				\n				\n				\n				\n				AM I ABLE TO GRAB BREAKFAST FOR A PEER OR CLASSMATE?\n				Your peers or classmates must come to Breakfast Club in person. All students must follow item maximums and cannot take additional items for someone else.\n			\n				\n				\n				\n				\n				DO I NEED TO STAND IN LINE FOR BREAKFAST CLUB?\n				As Breakfast Club is popular\, you may need to stand in line for an extended period of time to receive your free breakfast. If you are experiencing a disability that prevents you from standing in line\, please contact our Food Support team at safoodsupport@macewan.ca to inquire about possible accommodations.\n			\n				\n				\n				\n				\n				What does Breakfast Club cost?\n				\n\nBreakfast Club is free for all MacEwan students!
URL:https://samu.ca/event/breakfast-club-5/
ATTACH;FMTTYPE=image/webp:https://samu.ca/wp-content/uploads/2025/09/BfastClub2025_Feature.webp
END:VEVENT
BEGIN:VEVENT
DTSTART;TZID=America/Edmonton:20251024T110000
DTEND;TZID=America/Edmonton:20251117T120000
DTSTAMP:20260423T062345
CREATED:20251024T194748Z
LAST-MODIFIED:20251103T171933Z
UID:10000348-1761303600-1763380800@samu.ca
SUMMARY:STUDENTS' COUNCIL ELECTION SURVEY
DESCRIPTION:STUDENTS’ COUNCIL ELECTION SURVEY\n  \n			\n				Fill out Here\n			\n				\n				\n				\n				\n				\nTake two minutes to answer our 2025 SAMU Students’ Council Election survey and enter to win one of five $50 gift cards! Whether you voted or not\, we want to hear from you!
URL:https://samu.ca/event/students-council-election-survey/
ATTACH;FMTTYPE=image/jpeg:https://samu.ca/wp-content/uploads/2025/10/Survey-SCElection_Feature-1.jpg
END:VEVENT
END:VCALENDAR